BEGIN:VCALENDAR
VERSION:2.0
PRODID:-//wp-events-plugin.com//7.2.3.1//EN
TZID:America/New_York
X-WR-TIMEZONE:America/New_York
BEGIN:VEVENT
UID:350@trinitypres.us
DTSTART;TZID=America/New_York:20250712T100000
DTEND;TZID=America/New_York:20250712T150000
DTSTAMP:20250613T020302Z
URL:https://trinitypres.us/resources/events/youth-water-day/
SUMMARY:Youth Water Day
DESCRIPTION:Come join us on the water as we cookout\, swim\, and go tubing!
  Lunch will be provided\, but youth participants should bring a swimsuit a
 nd sunscreen. Parents and siblings are welcome to join in the fun!
ATTACH;FMTTYPE=image/jpeg:https://trinitypres.us/wp-content/uploads/2025/0
 6/IMG_2682-scaled-e1749780170664.jpg
CATEGORIES:Youth Ministry
LOCATION:Jim and Leslie Wilkins'\, -\, Crownsville\, MD\, United States
GEO:39.028444;-76.601354
X-APPLE-STRUCTURED-LOCATION;VALUE=URI;X-ADDRESS=-\, Crownsville\, MD\, Unit
 ed States;X-APPLE-RADIUS=100;X-TITLE=Jim and Leslie Wilkins':geo:39.028444
 ,-76.601354
END:VEVENT
BEGIN:VTIMEZONE
TZID:America/New_York
X-LIC-LOCATION:America/New_York
BEGIN:DAYLIGHT
DTSTART:20250309T030000
TZOFFSETFROM:-0500
TZOFFSETTO:-0400
TZNAME:EDT
END:DAYLIGHT
END:VTIMEZONE
END:VCALENDAR