BEGIN:VCALENDAR
VERSION:2.0
PRODID:-//wp-events-plugin.com//7.2.3.1//EN
TZID:America/New_York
X-WR-TIMEZONE:America/New_York
BEGIN:VEVENT
UID:354@trinitypres.us
DTSTART;TZID=America/New_York:20250823T090000
DTEND;TZID=America/New_York:20250823T120000
DTSTAMP:20250822T145624Z
URL:https://trinitypres.us/resources/events/youth-service-day/
SUMMARY:Youth Service Day
DESCRIPTION:All youth (and parents/siblings) are welcome to come join us in
  serving our fellow TPC congregants. This is a TPC tradition: the youth br
 ing energy to a service project for a member in need\, while the supervisi
 ng adults bring donuts and breakfast logs. It's a fun way to build fellows
 hip among ourselves while serving in a Christlike manner! More details to 
 come as the event approaches.
ATTACH;FMTTYPE=image/jpeg:https://trinitypres.us/wp-content/uploads/2025/0
 6/Youth-Service.jpg
CATEGORIES:Youth Ministry
END:VEVENT
BEGIN:VTIMEZONE
TZID:America/New_York
X-LIC-LOCATION:America/New_York
BEGIN:DAYLIGHT
DTSTART:20250309T030000
TZOFFSETFROM:-0500
TZOFFSETTO:-0400
TZNAME:EDT
END:DAYLIGHT
END:VTIMEZONE
END:VCALENDAR