BEGIN:VCALENDAR
VERSION:2.0
PRODID:-//wp-events-plugin.com//7.2.3.1//EN
TZID:America/New_York
X-WR-TIMEZONE:America/New_York
BEGIN:VEVENT
UID:500@trinitypres.us
DTSTART;TZID=America/New_York:20251206T173000
DTEND;TZID=America/New_York:20251206T203000
DTSTAMP:20251023T004425Z
URL:https://trinitypres.us/resources/events/youth-progressive-dinner/
SUMMARY:Youth Progressive Dinner
DESCRIPTION:Our annual progressive dinner is a dinner party where each cour
 se of the meal (appetizer\, entree/main\, dessert) is prepared and eaten a
 t a different house. Basically\, you go to a bunch of houses\, have some d
 elicious food\, and hang out with your friends!\n\nWe will provide transpo
 rtation between each house\, so parents only need to worry about drop off 
 and pick up.
ATTACH;FMTTYPE=image/jpeg:https://trinitypres.us/wp-content/uploads/2025/1
 0/YPD.jpg
CATEGORIES:Youth Ministry
END:VEVENT
BEGIN:VTIMEZONE
TZID:America/New_York
X-LIC-LOCATION:America/New_York
BEGIN:STANDARD
DTSTART:20251102T010000
TZOFFSETFROM:-0400
TZOFFSETTO:-0500
TZNAME:EST
END:STANDARD
END:VTIMEZONE
END:VCALENDAR