BEGIN:VCALENDAR
VERSION:2.0
PRODID:-//wp-events-plugin.com//7.2.3.1//EN
TZID:America/New_York
X-WR-TIMEZONE:America/New_York
BEGIN:VEVENT
UID:552@trinitypres.us
DTSTART;TZID=America/New_York:20260425T140000
DTEND;TZID=America/New_York:20260425T160000
DTSTAMP:20260415T013725Z
URL:https://trinitypres.us/resources/events/youth-laser-tag/
SUMMARY:Youth Laser Tag
DESCRIPTION:
ATTACH;FMTTYPE=image/jpeg:https://trinitypres.us/wp-content/uploads/2025/1
 1/laser-tag.jpg
CATEGORIES:Youth Ministry
LOCATION:Terry and Lauren Everhart's\,  \, Davidsonville\, MD\, 21035\, Uni
 ted States
GEO:38.922764;-76.628555
X-APPLE-STRUCTURED-LOCATION;VALUE=URI;X-ADDRESS= \, Davidsonville\, MD\, 21
 035\, United States;X-APPLE-RADIUS=100;X-TITLE=Terry and Lauren Everhart's
 :geo:38.922764,-76.628555
END:VEVENT
BEGIN:VTIMEZONE
TZID:America/New_York
X-LIC-LOCATION:America/New_York
BEGIN:DAYLIGHT
DTSTART:20260308T030000
TZOFFSETFROM:-0500
TZOFFSETTO:-0400
TZNAME:EDT
END:DAYLIGHT
END:VTIMEZONE
END:VCALENDAR