BEGIN:VCALENDAR
VERSION:2.0
PRODID:-//wp-events-plugin.com//7.2.3.1//EN
TZID:America/New_York
X-WR-TIMEZONE:America/New_York
BEGIN:VEVENT
UID:501@trinitypres.us
DTSTART;TZID=America/New_York:20251115T130000
DTEND;TZID=America/New_York:20251115T150000
DTSTAMP:20251029T010337Z
URL:https://trinitypres.us/resources/events/youth-girls-tea/
SUMMARY:Youth Girls' Tea
DESCRIPTION:Our youth girls are invited to the annual fall tea hosted by th
 e lovely Stephanie Ludlum. This is a sweet time of fellowship with a short
  devotional from a guest speaker.
ATTACH;FMTTYPE=image/jpeg:https://trinitypres.us/wp-content/uploads/2025/1
 0/Girls-youth-tea-e1761687625702.jpg
CATEGORIES:Youth Ministry
LOCATION:Stephanie Ludlum's\,    \, Annapolis\, MD\, 21401\, United States
GEO:38.979434;-76.491971
X-APPLE-STRUCTURED-LOCATION;VALUE=URI;X-ADDRESS=   \, Annapolis\, MD\, 2140
 1\, United States;X-APPLE-RADIUS=100;X-TITLE=Stephanie Ludlum's:geo:38.979
 434,-76.491971
END:VEVENT
BEGIN:VTIMEZONE
TZID:America/New_York
X-LIC-LOCATION:America/New_York
BEGIN:STANDARD
DTSTART:20251102T010000
TZOFFSETFROM:-0400
TZOFFSETTO:-0500
TZNAME:EST
END:STANDARD
END:VTIMEZONE
END:VCALENDAR