BEGIN:VCALENDAR
VERSION:2.0
PRODID:-//wp-events-plugin.com//7.2.3.1//EN
TZID:America/New_York
X-WR-TIMEZONE:America/New_York
BEGIN:VEVENT
UID:543@trinitypres.us
DTSTART;TZID=America/New_York:20260215T124500
DTEND;TZID=America/New_York:20260215T150000
DTSTAMP:20251121T200027Z
URL:https://trinitypres.us/resources/events/youth-discipleship-lunch-6/
SUMMARY:Youth Discipleship Lunch
DESCRIPTION:\nAfter the service\, youth should go immediately to the Youth 
 Discipleship Lunch at the designated location. We have the following plann
 ed:\n\n\n\n\n 	\nLunch (12:45-1:30)\n 	\nA lesson\, taught by elder Chris 
 Schwartz (1:30-2:15) \n 	\nA game/activity (2:15-3:00)\n\nParents should 
 pick up their youth at 3 pm.\n\n
ATTACH;FMTTYPE=image/jpeg:https://trinitypres.us/wp-content/uploads/2021/0
 4/pexels-helena-lopes-697243.jpg
CATEGORIES:Youth Ministry
LOCATION:Chris and Missy Schwartz's\,  \, Millersville\, MD\, United States
GEO:39.057478;-76.648582
X-APPLE-STRUCTURED-LOCATION;VALUE=URI;X-ADDRESS= \, Millersville\, MD\, Uni
 ted States;X-APPLE-RADIUS=100;X-TITLE=Chris and Missy Schwartz's:geo:39.05
 7478,-76.648582
END:VEVENT
BEGIN:VTIMEZONE
TZID:America/New_York
X-LIC-LOCATION:America/New_York
BEGIN:STANDARD
DTSTART:20251102T010000
TZOFFSETFROM:-0400
TZOFFSETTO:-0500
TZNAME:EST
END:STANDARD
END:VTIMEZONE
END:VCALENDAR