BEGIN:VCALENDAR
VERSION:2.0
PRODID:-//wp-events-plugin.com//7.2.3.1//EN
TZID:America/New_York
X-WR-TIMEZONE:America/New_York
BEGIN:VEVENT
UID:352@trinitypres.us
DTSTART;TZID=America/New_York:20250817T124500
DTEND;TZID=America/New_York:20250817T150000
DTSTAMP:20250613T021140Z
URL:https://trinitypres.us/resources/events/youth-discipleship-lunch-2/
SUMMARY:Youth Discipleship Lunch
DESCRIPTION:\nAfter the service\, youth should go immediately to the Youth 
 Discipleship Lunch at the designated location. We have the following plann
 ed:\n\n\n\n\n 	\nLunch (12:45-1:30)\n 	\nA lesson on the Beatitudes\, taug
 ht by an elder (1:30-2:15) \n 	\nA game/activity (2:15-3:00)\n\nParents s
 hould pick up their youth at 3 pm.\n\n
ATTACH;FMTTYPE=image/jpeg:https://trinitypres.us/wp-content/uploads/2021/0
 4/pexels-helena-lopes-697243.jpg
CATEGORIES:Youth Ministry
LOCATION:Hannah and David Putnam's\,  \, Pasadena \, MD\, 21122\, United St
 ates
GEO:39.12914;-76.479444
X-APPLE-STRUCTURED-LOCATION;VALUE=URI;X-ADDRESS= \, Pasadena \, MD\, 21122\
 , United States;X-APPLE-RADIUS=100;X-TITLE=Hannah and David Putnam's:geo:3
 9.12914,-76.479444
END:VEVENT
BEGIN:VTIMEZONE
TZID:America/New_York
X-LIC-LOCATION:America/New_York
BEGIN:DAYLIGHT
DTSTART:20250309T030000
TZOFFSETFROM:-0500
TZOFFSETTO:-0400
TZNAME:EDT
END:DAYLIGHT
END:VTIMEZONE
END:VCALENDAR