BEGIN:VCALENDAR
VERSION:2.0
PRODID:-//wp-events-plugin.com//7.2.3.1//EN
TZID:America/New_York
X-WR-TIMEZONE:America/New_York
BEGIN:VEVENT
UID:539@trinitypres.us
DTSTART;TZID=America/New_York:20251115T173000
DTEND;TZID=America/New_York:20251115T203000
DTSTAMP:20251104T023546Z
URL:https://trinitypres.us/resources/events/youth-boys-board-games-and-sta
 rgazing/
SUMMARY:Youth Boys Board Games and Stargazing
DESCRIPTION:The Everharts are hosting an evening of board games\, pizza\, a
 nd stars! Wes Ferwerda will be guest starring (pun intended) as our starga
 zing expert\, assuming we have clear weather that evening. The plan is to 
 have dinner and board games from 5:30-7pm and then stargazing and more boa
 rd games from 7-8:30pm.
ATTACH;FMTTYPE=image/jpeg:https://trinitypres.us/wp-content/uploads/2025/1
 1/game-night.jpg
CATEGORIES:Youth Ministry
LOCATION:Terry and Lauren Everhart's\,  \, Davidsonville\, MD\, 21035\, Uni
 ted States
GEO:38.922764;-76.628555
X-APPLE-STRUCTURED-LOCATION;VALUE=URI;X-ADDRESS= \, Davidsonville\, MD\, 21
 035\, United States;X-APPLE-RADIUS=100;X-TITLE=Terry and Lauren Everhart's
 :geo:38.922764,-76.628555
END:VEVENT
BEGIN:VTIMEZONE
TZID:America/New_York
X-LIC-LOCATION:America/New_York
BEGIN:STANDARD
DTSTART:20251102T010000
TZOFFSETFROM:-0400
TZOFFSETTO:-0500
TZNAME:EST
END:STANDARD
END:VTIMEZONE
END:VCALENDAR