BEGIN:VCALENDAR
VERSION:2.0
PRODID:-//wp-events-plugin.com//7.2.3.1//EN
TZID:America/New_York
X-WR-TIMEZONE:America/New_York
BEGIN:VEVENT
UID:149@trinitypres.us
DTSTART;TZID=America/New_York:20280213T103000
DTEND;TZID=America/New_York:20280213T120000
DTSTAMP:20250429T184658Z
URL:https://trinitypres.us/resources/events/worship-service-2028-02-13/
SUMMARY:Worship Service
DESCRIPTION:Join us as we worship our Triune God in spirit and truth.
ATTACH;FMTTYPE=image/jpeg:https://trinitypres.us/wp-content/uploads/2025/0
 4/24-Surprising-Facts-You-Never-Knew-About-the-Bible-3.jpg
CATEGORIES:Sunday Morning
LOCATION:Crofton High School\, 2291 Davidsonville Road\, Gambrills\, MD\, 2
 1054\, United States
GEO:39.000557;-76.669517
X-APPLE-STRUCTURED-LOCATION;VALUE=URI;X-ADDRESS=2291 Davidsonville Road\, G
 ambrills\, MD\, 21054\, United States;X-APPLE-RADIUS=100;X-TITLE=Crofton H
 igh School:geo:39.000557,-76.669517
END:VEVENT
BEGIN:VTIMEZONE
TZID:America/New_York
X-LIC-LOCATION:America/New_York
BEGIN:STANDARD
DTSTART:20271107T010000
TZOFFSETFROM:-0400
TZOFFSETTO:-0500
TZNAME:EST
END:STANDARD
END:VTIMEZONE
END:VCALENDAR