BEGIN:VCALENDAR
VERSION:2.0
PRODID:-//wp-events-plugin.com//7.2.3.1//EN
TZID:America/New_York
X-WR-TIMEZONE:America/New_York
BEGIN:VEVENT
UID:29@trinitypres.us
DTSTART;TZID=America/New_York:20251026T103000
DTEND;TZID=America/New_York:20251026T120000
DTSTAMP:20251023T015752Z
URL:https://trinitypres.us/resources/events/worship-service-2025-10-26/
SUMMARY:Worship Service
DESCRIPTION:Join us as we worship our Triune God in spirit and truth.\n\n*N
 OTE: we will be meeting in the school cafeteria this week. This is up the 
 main set of stairs in the lobby to the right of the main entrance. Attende
 es are encouraged to park at the cafeteria entrance -- located just beyond
  our usual parking lot. We will need help setting up and taking down chair
 s for this service\, so please come a little early to Sunday School hour a
 nd stay after the service to help if you can. Our Sunday School and nurser
 y/YWIT classrooms are in their usual locations.*
ATTACH;FMTTYPE=image/jpeg:https://trinitypres.us/wp-content/uploads/2025/0
 4/24-Surprising-Facts-You-Never-Knew-About-the-Bible-3.jpg
CATEGORIES:Sunday Morning
LOCATION:Crofton High School\, 2291 Davidsonville Road\, Gambrills\, MD\, 2
 1054\, United States
GEO:39.000557;-76.669517
X-APPLE-STRUCTURED-LOCATION;VALUE=URI;X-ADDRESS=2291 Davidsonville Road\, G
 ambrills\, MD\, 21054\, United States;X-APPLE-RADIUS=100;X-TITLE=Crofton H
 igh School:geo:39.000557,-76.669517
END:VEVENT
BEGIN:VTIMEZONE
TZID:America/New_York
X-LIC-LOCATION:America/New_York
BEGIN:DAYLIGHT
DTSTART:20250309T030000
TZOFFSETFROM:-0500
TZOFFSETTO:-0400
TZNAME:EDT
END:DAYLIGHT
END:VTIMEZONE
END:VCALENDAR