BEGIN:VCALENDAR
VERSION:2.0
PRODID:-//wp-events-plugin.com//7.2.3.1//EN
TZID:America/New_York
X-WR-TIMEZONE:America/New_York
BEGIN:VEVENT
UID:319@trinitypres.us
DTSTART;TZID=America/New_York:20250807T190000
DTEND;TZID=America/New_York:20250807T210000
DTSTAMP:20250516T010422Z
URL:https://trinitypres.us/resources/events/womens-summer-evening-bible-st
 udy-3/
SUMMARY:Women's Summer EVENING Bible Study
DESCRIPTION:Once a month this summer\, on a Thursday evening\, the ladies w
 ill be reading through "Living Life Backwards" by David Gibson! Join us as
  we study how Ecclesiastes teaches us to live in the light of the end.\n\n
 June 26th- Chapters 1-3\nJuly 17th- Chapters 4-7\nAugust 7th- Chapters 8-1
 0\n\n*This study has no childcare*\n\nhttps://www.amazon.com/dp/1433556278
 ?ref=ppx_yo2ov_dt_b_fed_asin_title
ATTACH;FMTTYPE=image/jpeg:https://trinitypres.us/wp-content/uploads/2025/0
 5/WBSE-S25.jpg
CATEGORIES:Women's Ministry
LOCATION:Terry and Lauren Everhart's\,  \, Davidsonville\, MD\, 21035\, Uni
 ted States
GEO:38.922764;-76.628555
X-APPLE-STRUCTURED-LOCATION;VALUE=URI;X-ADDRESS= \, Davidsonville\, MD\, 21
 035\, United States;X-APPLE-RADIUS=100;X-TITLE=Terry and Lauren Everhart's
 :geo:38.922764,-76.628555
END:VEVENT
BEGIN:VTIMEZONE
TZID:America/New_York
X-LIC-LOCATION:America/New_York
BEGIN:DAYLIGHT
DTSTART:20250309T030000
TZOFFSETFROM:-0500
TZOFFSETTO:-0400
TZNAME:EDT
END:DAYLIGHT
END:VTIMEZONE
END:VCALENDAR