BEGIN:VCALENDAR
VERSION:2.0
PRODID:-//wp-events-plugin.com//7.2.3.1//EN
TZID:America/New_York
X-WR-TIMEZONE:America/New_York
BEGIN:VEVENT
UID:310@trinitypres.us
DTSTART;TZID=America/New_York:20250626T093000
DTEND;TZID=America/New_York:20250626T113000
DTSTAMP:20250516T015639Z
URL:https://trinitypres.us/resources/events/womens-summer-bible-study-2025
 -06-26/
SUMMARY:Women's Summer Bible Study
DESCRIPTION:Thursdays this summer the ladies will be reading through "Livin
 g Life Backwards" by David Gibson! Join us as we study how Ecclesiastes te
 aches us to live in the light of the end.\n\nJune 26- Chapters 1+2\nJuly 3
 - Fellowship*\nJuly 10th- Chapters 3+4\nJuly 17th- Chapters 5+6\nJuly 24th
 - Chapters 7+8\nJuly 31- Fellowship* \nAugust 7th- Chapters 9+10\n\n*No C
 hildcare*\n\nhttps://www.amazon.com/dp/1433556278?ref=ppx_yo2ov_dt_b_fed_a
 sin_title
ATTACH;FMTTYPE=image/jpeg:https://trinitypres.us/wp-content/uploads/2025/0
 5/WBS-S25.jpg
CATEGORIES:Women's Ministry
LOCATION:Matt and Jenna Robinson's\,  \, Millersville\, MD\, 21108\, United
  States
GEO:39.057478;-76.648582
X-APPLE-STRUCTURED-LOCATION;VALUE=URI;X-ADDRESS= \, Millersville\, MD\, 211
 08\, United States;X-APPLE-RADIUS=100;X-TITLE=Matt and Jenna Robinson's:ge
 o:39.057478,-76.648582
END:VEVENT
BEGIN:VTIMEZONE
TZID:America/New_York
X-LIC-LOCATION:America/New_York
BEGIN:DAYLIGHT
DTSTART:20250309T030000
TZOFFSETFROM:-0500
TZOFFSETTO:-0400
TZNAME:EDT
END:DAYLIGHT
END:VTIMEZONE
END:VCALENDAR