BEGIN:VCALENDAR
VERSION:2.0
PRODID:-//wp-events-plugin.com//7.2.3.1//EN
TZID:America/New_York
X-WR-TIMEZONE:America/New_York
BEGIN:VEVENT
UID:162@trinitypres.us
DTSTART;TZID=America/New_York:20250510T090000
DTEND;TZID=America/New_York:20250510T120000
DTSTAMP:20250507T194727Z
URL:https://trinitypres.us/resources/events/womens-spring-brunch/
SUMMARY:Women's Spring Brunch
DESCRIPTION:Come join us for some sweet time of fellowship at Leslie Wilkin
 s'.
ATTACH;FMTTYPE=image/jpeg:https://trinitypres.us/wp-content/uploads/2025/0
 4/Womens-spring-brunch.jpg
CATEGORIES:Women's Ministry
LOCATION:Jim and Leslie Wilkins'\, -\, Crownsville\, MD\, United States
GEO:39.028444;-76.601354
X-APPLE-STRUCTURED-LOCATION;VALUE=URI;X-ADDRESS=-\, Crownsville\, MD\, Unit
 ed States;X-APPLE-RADIUS=100;X-TITLE=Jim and Leslie Wilkins':geo:39.028444
 ,-76.601354
END:VEVENT
BEGIN:VTIMEZONE
TZID:America/New_York
X-LIC-LOCATION:America/New_York
BEGIN:DAYLIGHT
DTSTART:20250309T030000
TZOFFSETFROM:-0500
TZOFFSETTO:-0400
TZNAME:EDT
END:DAYLIGHT
END:VTIMEZONE
END:VCALENDAR