BEGIN:VCALENDAR
VERSION:2.0
PRODID:-//wp-events-plugin.com//7.2.3.1//EN
TZID:America/New_York
X-WR-TIMEZONE:America/New_York
BEGIN:VEVENT
UID:442@trinitypres.us
DTSTART;TZID=America/New_York:20260303T053000
DTEND;TZID=America/New_York:20260303T070000
DTSTAMP:20250822T151202Z
URL:https://trinitypres.us/resources/events/womens-morning-prayer-call-202
 5-08-26-2025-09-02-2025-09-09-2025-09-16-2025-09-23-2025-09-30-2025-10-07-
 2025-10-14-2025-10-21-2025-10-28-2025-11-04-2025-11-11-2025-11-18-2025-11-
 25-2025-24-2026-03-03/
SUMMARY:Women's Morning Prayer Call
DESCRIPTION:Join us each Tueday Morning from 5:30am- 7am for a time of pray
 er.\n\nWe meet on Google Meet\, you can find the link here:\nhttps://meet.
 google.com/ekt-xqkz-xqv 
ATTACH;FMTTYPE=image/jpeg:https://trinitypres.us/wp-content/uploads/2025/0
 8/ladies-prayer-call.jpg
CATEGORIES:Women's Ministry
END:VEVENT
BEGIN:VTIMEZONE
TZID:America/New_York
X-LIC-LOCATION:America/New_York
BEGIN:STANDARD
DTSTART:20251102T010000
TZOFFSETFROM:-0400
TZOFFSETTO:-0500
TZNAME:EST
END:STANDARD
END:VTIMEZONE
END:VCALENDAR