BEGIN:VCALENDAR
VERSION:2.0
PRODID:-//wp-events-plugin.com//7.2.3.1//EN
TZID:America/New_York
X-WR-TIMEZONE:America/New_York
BEGIN:VEVENT
UID:526@trinitypres.us
DTSTART;TZID=America/New_York:20260123T091500
DTEND;TZID=America/New_York:20260123T111500
DTSTAMP:20251028T014930Z
URL:https://trinitypres.us/resources/events/womens-morning-bible-study-202
 6-01-23/
SUMMARY:Women's Morning Bible Study
DESCRIPTION:Joins us at our bi-monthly women's Bible study as we dive into 
 the book of Revelation. This study is reading Blessed: Experiencing the P
 romise of the Book of Revelation by Nancy Guthrie.
ATTACH;FMTTYPE=image/jpeg:https://trinitypres.us/wp-content/uploads/2025/0
 9/mobs-2.jpg
CATEGORIES:Women's Ministry
LOCATION:Holly Wenger's\,   \, Annapolis\, MD\, United States
GEO:38.976436;-76.489642
X-APPLE-STRUCTURED-LOCATION;VALUE=URI;X-ADDRESS=  \, Annapolis\, MD\, Unite
 d States;X-APPLE-RADIUS=100;X-TITLE=Holly Wenger's:geo:38.976436,-76.48964
 2
END:VEVENT
BEGIN:VTIMEZONE
TZID:America/New_York
X-LIC-LOCATION:America/New_York
BEGIN:STANDARD
DTSTART:20251102T010000
TZOFFSETFROM:-0400
TZOFFSETTO:-0500
TZNAME:EST
END:STANDARD
END:VTIMEZONE
END:VCALENDAR