BEGIN:VCALENDAR
VERSION:2.0
PRODID:-//wp-events-plugin.com//7.2.3.1//EN
TZID:America/New_York
X-WR-TIMEZONE:America/New_York
BEGIN:VEVENT
UID:406@trinitypres.us
DTSTART;TZID=America/New_York:20250620T190000
DTEND;TZID=America/New_York:20250620T220000
DTSTAMP:20250615T033813Z
URL:https://trinitypres.us/resources/events/womens-friday-fellowship/
SUMMARY:Women's Friday Fellowship
DESCRIPTION:Come out for a time of ladies' fellowship!
CATEGORIES:Women's Ministry
LOCATION:Benjamin and Rae Waldo's\,  \, Crofton\, MD\, United States
GEO:39.001777;-76.687467
X-APPLE-STRUCTURED-LOCATION;VALUE=URI;X-ADDRESS= \, Crofton\, MD\, United S
 tates;X-APPLE-RADIUS=100;X-TITLE=Benjamin and Rae Waldo's:geo:39.001777,-7
 6.687467
END:VEVENT
BEGIN:VTIMEZONE
TZID:America/New_York
X-LIC-LOCATION:America/New_York
BEGIN:DAYLIGHT
DTSTART:20250309T030000
TZOFFSETFROM:-0500
TZOFFSETTO:-0400
TZNAME:EDT
END:DAYLIGHT
END:VTIMEZONE
END:VCALENDAR