BEGIN:VCALENDAR
VERSION:2.0
PRODID:-//wp-events-plugin.com//7.2.3.1//EN
TZID:America/New_York
X-WR-TIMEZONE:America/New_York
BEGIN:VEVENT
UID:474@trinitypres.us
DTSTART;TZID=America/New_York:20251011T193000
DTEND;TZID=America/New_York:20251011T220000
DTSTAMP:20250929T235052Z
URL:https://trinitypres.us/resources/events/womens-fellowship-night/
SUMMARY:Women's Fellowship Night
DESCRIPTION:Join the ladies for FELLOWSHIP NIGHT! The theme is TJ's and Pj'
 s. Wear your favorite fall pajamas and come enjoy some fall Trader Joe's s
 nacks! Feel free to bring one of your favorites as well!
ATTACH;FMTTYPE=image/jpeg:https://trinitypres.us/wp-content/uploads/2025/0
 9/77A517E6-F93D-45DE-BF72-F78D145A4722.jpg
CATEGORIES:Women's Ministry
LOCATION:Benjamin and Rae Waldo's\,  \, Crofton\, MD\, United States
GEO:39.001777;-76.687467
X-APPLE-STRUCTURED-LOCATION;VALUE=URI;X-ADDRESS= \, Crofton\, MD\, United S
 tates;X-APPLE-RADIUS=100;X-TITLE=Benjamin and Rae Waldo's:geo:39.001777,-7
 6.687467
END:VEVENT
BEGIN:VTIMEZONE
TZID:America/New_York
X-LIC-LOCATION:America/New_York
BEGIN:DAYLIGHT
DTSTART:20250309T030000
TZOFFSETFROM:-0500
TZOFFSETTO:-0400
TZNAME:EDT
END:DAYLIGHT
END:VTIMEZONE
END:VCALENDAR