BEGIN:VCALENDAR
VERSION:2.0
PRODID:-//wp-events-plugin.com//7.2.3.1//EN
TZID:America/New_York
X-WR-TIMEZONE:America/New_York
BEGIN:VEVENT
UID:321@trinitypres.us
DTSTART;TZID=America/New_York:20250919T170000
DTEND;TZID=America/New_York:20250921T093000
DTSTAMP:20250516T012810Z
URL:https://trinitypres.us/resources/events/womens-fall-retreat/
SUMMARY:Women's Fall Retreat
DESCRIPTION:
ATTACH;FMTTYPE=image/jpeg:https://trinitypres.us/wp-content/uploads/2025/0
 5/Screenshot-2025-05-15-at-9.21.52-PM.png
CATEGORIES:Women's Ministry
LOCATION:Shrine Mont\, 217 Shrine Mont Cir\, Orkney Springs\,  VA \, 22845\
 , United States
GEO:38.794868;-78.818134
X-APPLE-STRUCTURED-LOCATION;VALUE=URI;X-ADDRESS=217 Shrine Mont Cir\, Orkne
 y Springs\,  VA \, 22845\, United States;X-APPLE-RADIUS=100;X-TITLE=Shrine
  Mont:geo:38.794868,-78.818134
END:VEVENT
BEGIN:VTIMEZONE
TZID:America/New_York
X-LIC-LOCATION:America/New_York
BEGIN:DAYLIGHT
DTSTART:20250309T030000
TZOFFSETFROM:-0500
TZOFFSETTO:-0400
TZNAME:EDT
END:DAYLIGHT
END:VTIMEZONE
END:VCALENDAR