BEGIN:VCALENDAR
VERSION:2.0
PRODID:-//wp-events-plugin.com//7.2.3.1//EN
TZID:America/New_York
X-WR-TIMEZONE:America/New_York
BEGIN:VEVENT
UID:504@trinitypres.us
DTSTART;TZID=America/New_York:20250929T184500
DTEND;TZID=America/New_York:20250929T204500
DTSTAMP:20251028T013544Z
URL:https://trinitypres.us/resources/events/womens-evening-bible-study-202
 5-09-15-2025-09-29/
SUMMARY:Women's Evening Bible Study
DESCRIPTION:Join us every other Monday night as we dive into the book of Ex
 odus. We are reading a two-part study about Exodus: The God of Deliverance
  and The God of Freedom by Jen Wilkin.
ATTACH;FMTTYPE=image/jpeg:https://trinitypres.us/wp-content/uploads/2025/0
 9/evening-was.jpg
CATEGORIES:Women's Ministry
LOCATION:Deborah Vroblesky's\,  \, Annapolis\, MD\, United States
GEO:38.976436;-76.489642
X-APPLE-STRUCTURED-LOCATION;VALUE=URI;X-ADDRESS= \, Annapolis\, MD\, United
  States;X-APPLE-RADIUS=100;X-TITLE=Deborah Vroblesky's:geo:38.976436,-76.4
 89642
END:VEVENT
BEGIN:VTIMEZONE
TZID:America/New_York
X-LIC-LOCATION:America/New_York
BEGIN:DAYLIGHT
DTSTART:20250309T030000
TZOFFSETFROM:-0500
TZOFFSETTO:-0400
TZNAME:EDT
END:DAYLIGHT
END:VTIMEZONE
END:VCALENDAR