BEGIN:VCALENDAR
VERSION:2.0
PRODID:-//wp-events-plugin.com//7.2.3.1//EN
TZID:America/New_York
X-WR-TIMEZONE:America/New_York
BEGIN:VEVENT
UID:513@trinitypres.us
DTSTART;TZID=America/New_York:20260202T184500
DTEND;TZID=America/New_York:20260202T204500
DTSTAMP:20260202T183847Z
URL:https://trinitypres.us/resources/events/womens-evening-bible-study-202
 5-09-15-2025-09-29-2025-10-13-2025-10-27-2025-11-10-2025-11-24-2025-12-08-
 2025-12-22-2026-01-05-2026-01-19-2026-02-02/
SUMMARY:CANCELED- Women's Evening Bible Study
DESCRIPTION:Join us every other Monday night as we dive into the book of Ex
 odus. We are reading a two-part study about Exodus: The God of Deliverance
  and The God of Freedom by Jen Wilkin.
ATTACH;FMTTYPE=image/jpeg:https://trinitypres.us/wp-content/uploads/2025/0
 9/evening-was.jpg
CATEGORIES:Women's Ministry
LOCATION:Deborah Vroblesky's\,  \, Annapolis\, MD\, United States
GEO:38.976436;-76.489642
X-APPLE-STRUCTURED-LOCATION;VALUE=URI;X-ADDRESS= \, Annapolis\, MD\, United
  States;X-APPLE-RADIUS=100;X-TITLE=Deborah Vroblesky's:geo:38.976436,-76.4
 89642
END:VEVENT
BEGIN:VTIMEZONE
TZID:America/New_York
X-LIC-LOCATION:America/New_York
BEGIN:STANDARD
DTSTART:20251102T010000
TZOFFSETFROM:-0400
TZOFFSETTO:-0500
TZNAME:EST
END:STANDARD
END:VTIMEZONE
END:VCALENDAR