BEGIN:VCALENDAR
VERSION:2.0
PRODID:-//wp-events-plugin.com//7.2.3.1//EN
TZID:America/New_York
X-WR-TIMEZONE:America/New_York
BEGIN:VEVENT
UID:320@trinitypres.us
DTSTART;TZID=America/New_York:20250814T093000
DTEND;TZID=America/New_York:20250814T113000
DTSTAMP:20250516T011017Z
URL:https://trinitypres.us/resources/events/womens-end-of-summer-study-bru
 nch/
SUMMARY:Women's End of Summer Study Brunch
DESCRIPTION:Celebrate the end of our summer study with brunch and some time
  for prayer at Kait Putnam's house!\nPlease bring a dish to share.
ATTACH;FMTTYPE=image/jpeg:https://trinitypres.us/wp-content/uploads/2025/0
 5/eos-bp.jpg
CATEGORIES:Women's Ministry
LOCATION:Logan and Kait Putnam's\,  \, Davidsonville\, MD\, United States
GEO:38.922764;-76.628555
X-APPLE-STRUCTURED-LOCATION;VALUE=URI;X-ADDRESS= \, Davidsonville\, MD\, Un
 ited States;X-APPLE-RADIUS=100;X-TITLE=Logan and Kait Putnam's:geo:38.9227
 64,-76.628555
END:VEVENT
BEGIN:VTIMEZONE
TZID:America/New_York
X-LIC-LOCATION:America/New_York
BEGIN:DAYLIGHT
DTSTART:20250309T030000
TZOFFSETFROM:-0500
TZOFFSETTO:-0400
TZNAME:EDT
END:DAYLIGHT
END:VTIMEZONE
END:VCALENDAR