BEGIN:VCALENDAR
VERSION:2.0
PRODID:-//wp-events-plugin.com//7.2.3.1//EN
TZID:America/New_York
X-WR-TIMEZONE:America/New_York
BEGIN:VEVENT
UID:411@trinitypres.us
DTSTART;TZID=America/New_York:20250813T170000
DTEND;TZID=America/New_York:20250813T193000
DTSTAMP:20250810T155655Z
URL:https://trinitypres.us/resources/events/wet-n-wild-day/
SUMMARY:Wet 'n Wild Day
DESCRIPTION:Get excited and save the date for our Children's Ministry Farew
 ell to Summer - Wet and Wild Day on Wednesday August 13th! While this even
 t is hosted by Children's Ministry\, please note that anyone is welcome to
  attend! You don't have to have young kids to come hang out with us and sa
 y farewell to summer.
ATTACH;FMTTYPE=image/jpeg:https://trinitypres.us/wp-content/uploads/2025/0
 8/WetNWildDay.png
CATEGORIES:Children's Ministry
LOCATION:Jacob and Katie McKinley's\,  \, Millersville\, Maryland\, United 
 States
GEO:39.057478;-76.648582
X-APPLE-STRUCTURED-LOCATION;VALUE=URI;X-ADDRESS= \, Millersville\, Maryland
 \, United States;X-APPLE-RADIUS=100;X-TITLE=Jacob and Katie McKinley's:geo
 :39.057478,-76.648582
END:VEVENT
BEGIN:VTIMEZONE
TZID:America/New_York
X-LIC-LOCATION:America/New_York
BEGIN:DAYLIGHT
DTSTART:20250309T030000
TZOFFSETFROM:-0500
TZOFFSETTO:-0400
TZNAME:EDT
END:DAYLIGHT
END:VTIMEZONE
END:VCALENDAR