BEGIN:VCALENDAR
VERSION:2.0
PRODID:-//wp-events-plugin.com//7.2.3.1//EN
TZID:America/New_York
X-WR-TIMEZONE:America/New_York
BEGIN:VEVENT
UID:409@trinitypres.us
DTSTART;TZID=America/New_York:20250707T084500
DTEND;TZID=America/New_York:20250711T120000
DTSTAMP:20250629T032834Z
URL:https://trinitypres.us/resources/events/vacation-bible-school-vbs/
SUMMARY:Vacation Bible School (VBS)
DESCRIPTION:\nTrinity has been invited to join Annapolis Evangelical Presby
 terian (EP) for a week-long VBS adventure July 7–11 from 8:45 a.m. to
  noon. Lace up your hiking boots\, pull out your backpack\, and get ready
  to head out with us to Upward Bound Vacation Bible School (VBS)! During
  VBS at Annapolis EP\, we will sing\, play games\, hear from storytellers
 \, make crafts\, and enjoy tasty snacks.\n\nBy God’s grace\, Upward Boun
 d will lead our children to love and worship Jesus Christ\, deepen their k
 nowledge of and love for the Word of God\, increase their enthusiasm for m
 emorizing Scripture\, teach them the gospel\, and equip them to share it! 
 Upward Bound tracks Jesus’s perilous journey from the Courts of Heaven t
 o the Cross and back again\, encouraging young backpackers to make their o
 wn lifelong upward-bound trek to the Summit by the power of the Holy Spiri
 t through faith in Christ.\n\nRegistration is still open for backpackers (
 kids) and coaches (volunteers). Backpackers are students aged 5 (by July 7
 ) through those who have completed 5th grade. (Classes are formed by the g
 rade which was just completed.) Coaches are needed to serve as teachers\, 
 helpers\, and in music. Childcare is available to our helpers for their c
 hildren too young to participate in the program. Children who are age 4 a
 re welcome to participate in the full VBS program if their parent is
  helping somewhere on the property.\n\nAnnapolis EP is excited for Trinit
 y to continue joining them for VBS both with our kids’ participation a
 nd with our volunteers. You do not need to have kids participating in VBS
  this year in order to volunteer – all adults are welcome! Youth who ha
 ve completed 6th grade\, and older\, are also invited to volunteer. Often
  our youth volunteers help keep the show running smoothly with their extra
  energy and enthusiasm! If you are interested in volunteering\, but can’
 t quite make it the whole week of VBS\, we can work with your schedule.\n
 \nBackpackers and coaches (volunteers) are invited to sign up at the provi
 ded links. Backpackers can sign up here. Coaches/volunteers can sign up 
 here.
ATTACH;FMTTYPE=image/jpeg:https://trinitypres.us/wp-content/uploads/2025/0
 6/VBS-Invite-Card-Square-Cards-images-0.jpg
CATEGORIES:Children's Ministry
LOCATION:Annapolis Evangelical Presbyterian Church\, 710 Ridgely Avenue\, A
 nnapolis\, MD\, 21401\, United States
GEO:39.000496;-76.517787
X-APPLE-STRUCTURED-LOCATION;VALUE=URI;X-ADDRESS=710 Ridgely Avenue\, Annapo
 lis\, MD\, 21401\, United States;X-APPLE-RADIUS=100;X-TITLE=Annapolis Evan
 gelical Presbyterian Church:geo:39.000496,-76.517787
END:VEVENT
BEGIN:VTIMEZONE
TZID:America/New_York
X-LIC-LOCATION:America/New_York
BEGIN:DAYLIGHT
DTSTART:20250309T030000
TZOFFSETFROM:-0500
TZOFFSETTO:-0400
TZNAME:EDT
END:DAYLIGHT
END:VTIMEZONE
END:VCALENDAR