BEGIN:VCALENDAR
VERSION:2.0
PRODID:-//wp-events-plugin.com//7.2.3.1//EN
TZID:America/New_York
X-WR-TIMEZONE:America/New_York
BEGIN:VEVENT
UID:323@trinitypres.us
DTSTART;TZID=America/New_York:20250603T093000
DTEND;TZID=America/New_York:20250603T160000
DTSTAMP:20250810T152733Z
URL:https://trinitypres.us/resources/events/tpc-pool-day-2025-06-03/
SUMMARY:TPC Pool Day
DESCRIPTION:Hannah and David Putnam have graciously opened their pool to TP
 C to use this summer! Every Tuesday from 9:30am-4pm families are welcome t
 o come. Please bring your own food and towels.
ATTACH;FMTTYPE=image/jpeg:https://trinitypres.us/wp-content/uploads/2025/0
 5/Blue-Elegant-Hello-Summer-Instagram-Post.png
CATEGORIES:General Fellowship
LOCATION:Hannah and David Putnam's\,  \, Pasadena \, MD\, 21122\, United St
 ates
GEO:39.12914;-76.479444
X-APPLE-STRUCTURED-LOCATION;VALUE=URI;X-ADDRESS= \, Pasadena \, MD\, 21122\
 , United States;X-APPLE-RADIUS=100;X-TITLE=Hannah and David Putnam's:geo:3
 9.12914,-76.479444
END:VEVENT
BEGIN:VTIMEZONE
TZID:America/New_York
X-LIC-LOCATION:America/New_York
BEGIN:DAYLIGHT
DTSTART:20250309T030000
TZOFFSETFROM:-0500
TZOFFSETTO:-0400
TZNAME:EDT
END:DAYLIGHT
END:VTIMEZONE
END:VCALENDAR