BEGIN:VCALENDAR
VERSION:2.0
PRODID:-//wp-events-plugin.com//7.2.3.1//EN
TZID:America/New_York
X-WR-TIMEZONE:America/New_York
BEGIN:VEVENT
UID:288@trinitypres.us
DTSTART;TZID=America/New_York:20260208T173000
DTEND;TZID=America/New_York:20260208T193000
DTSTAMP:20260202T183958Z
URL:https://trinitypres.us/resources/events/sunday-evening-fellowship-2026
 -02-01/
SUMMARY:Sunday Evening Fellowship
DESCRIPTION:Close out the Lord's Day with us as we sing hymns\, study a cha
 pter of the Bible\, and pray for our church. Coffee is available\, and mem
 bers routinely bring food to share. Children are welcome to attend fellows
 hip under their parents' supervision\, and a playroom is also available.
ATTACH;FMTTYPE=image/jpeg:https://trinitypres.us/wp-content/uploads/2025/0
 4/fellowshipNight.png
CATEGORIES:General Fellowship
LOCATION:Terry and Lauren Everhart's\,  \, Davidsonville\, MD\, 21035\, Uni
 ted States
GEO:38.922764;-76.628555
X-APPLE-STRUCTURED-LOCATION;VALUE=URI;X-ADDRESS= \, Davidsonville\, MD\, 21
 035\, United States;X-APPLE-RADIUS=100;X-TITLE=Terry and Lauren Everhart's
 :geo:38.922764,-76.628555
END:VEVENT
BEGIN:VTIMEZONE
TZID:America/New_York
X-LIC-LOCATION:America/New_York
BEGIN:STANDARD
DTSTART:20251102T010000
TZOFFSETFROM:-0400
TZOFFSETTO:-0500
TZNAME:EST
END:STANDARD
END:VTIMEZONE
END:VCALENDAR