BEGIN:VCALENDAR
VERSION:2.0
PRODID:-//wp-events-plugin.com//7.2.3.1//EN
TZID:America/New_York
X-WR-TIMEZONE:America/New_York
BEGIN:VEVENT
UID:285@trinitypres.us
DTSTART;TZID=America/New_York:20251102T173000
DTEND;TZID=America/New_York:20251102T193000
DTSTAMP:20251102T162430Z
URL:https://trinitypres.us/resources/events/sunday-evening-fellowship-2025
 -11-02/
SUMMARY:Sunday Evening Fellowship
DESCRIPTION:Close out the Lord's Day with us as we sing hymns\, study a cha
 pter of the Bible\, and pray for our church. Coffee is available\, and mem
 bers routinely bring food to share. Children are welcome to attend fellows
 hip under their parents' supervision\, and a playroom is also available.\n
 \nTonight’s service is of particular importance as we will be baptizing 
 several members. Please join us for a special evening service.
ATTACH;FMTTYPE=image/jpeg:https://trinitypres.us/wp-content/uploads/2025/0
 4/fellowshipNight.png
CATEGORIES:General Fellowship
LOCATION:Chris and Missy Schwartz's\,  \, Millersville\, MD\, United States
GEO:39.057478;-76.648582
X-APPLE-STRUCTURED-LOCATION;VALUE=URI;X-ADDRESS= \, Millersville\, MD\, Uni
 ted States;X-APPLE-RADIUS=100;X-TITLE=Chris and Missy Schwartz's:geo:39.05
 7478,-76.648582
END:VEVENT
BEGIN:VTIMEZONE
TZID:America/New_York
X-LIC-LOCATION:America/New_York
BEGIN:STANDARD
DTSTART:20251102T010000
TZOFFSETFROM:-0400
TZOFFSETTO:-0500
TZNAME:EST
END:STANDARD
END:VTIMEZONE
END:VCALENDAR