BEGIN:VCALENDAR
VERSION:2.0
PRODID:-//wp-events-plugin.com//7.2.3.1//EN
TZID:America/New_York
X-WR-TIMEZONE:America/New_York
BEGIN:VEVENT
UID:537@trinitypres.us
DTSTART;TZID=America/New_York:20251119T200000
DTEND;TZID=America/New_York:20251119T213000
DTSTAMP:20251031T001449Z
URL:https://trinitypres.us/resources/events/specialty-care-training-virtua
 l/
SUMMARY:Specialty Care Training (Virtual)
DESCRIPTION:This meeting with cover the vision and need for specialty care 
 in our church family and then get practical with our three main areas of m
 inistry:\n\n- Sunday School Buddy Program: one-to-one support for kids so 
 they can fully engage in class.\n- Church Buddy Program: support for indiv
 iduals during worship services and church events.\n- Mobility Ministry: tr
 ansportation coordination and on-site mobility assistance.\n\nThis session
  is tailored for current volunteers and anyone exploring whether this coul
 d be a good fit. We’ll outline simple roles\, realistic time commitments
 \, and next steps. The Google Meet link will be sent closer to the date of
  the training.\n\nPlease RSVP to Esther Doolan by Saturday\, November 15
ATTACH;FMTTYPE=image/jpeg:https://trinitypres.us/wp-content/uploads/2025/0
 8/sct.jpg
CATEGORIES:Specialty Care Ministry
END:VEVENT
BEGIN:VTIMEZONE
TZID:America/New_York
X-LIC-LOCATION:America/New_York
BEGIN:STANDARD
DTSTART:20251102T010000
TZOFFSETFROM:-0400
TZOFFSETTO:-0500
TZNAME:EST
END:STANDARD
END:VTIMEZONE
END:VCALENDAR