BEGIN:VCALENDAR
VERSION:2.0
PRODID:-//wp-events-plugin.com//7.2.3.1//EN
TZID:America/New_York
X-WR-TIMEZONE:America/New_York
BEGIN:VEVENT
UID:497@trinitypres.us
DTSTART;TZID=America/New_York:20251025T190000
DTEND;TZID=America/New_York:20251025T220000
DTSTAMP:20251008T130039Z
URL:https://trinitypres.us/resources/events/smores-and-stars/
SUMMARY:S'mores and Stars
DESCRIPTION:Come join us for a night of fellowship with a side of star gazi
 ng. Logan and Kait will have a bonfire set up\, and all the fixings for de
 licious s'mores will be provided! Meanwhile\, Wes Ferwerda is bringing his
  telescope and will be showing the group some of the amazing stars our God
  created. Please let Kait or Alexis know if you plan on coming so we can m
 ake sure to have enough s'mores for everyone!
ATTACH;FMTTYPE=image/jpeg:https://trinitypres.us/wp-content/uploads/2025/1
 0/smores-and-stars.jpg
CATEGORIES:Youth Ministry
LOCATION:Logan and Kait Putnam's\,  \, Davidsonville\, MD\, United States
GEO:38.922764;-76.628555
X-APPLE-STRUCTURED-LOCATION;VALUE=URI;X-ADDRESS= \, Davidsonville\, MD\, Un
 ited States;X-APPLE-RADIUS=100;X-TITLE=Logan and Kait Putnam's:geo:38.9227
 64,-76.628555
END:VEVENT
BEGIN:VTIMEZONE
TZID:America/New_York
X-LIC-LOCATION:America/New_York
BEGIN:DAYLIGHT
DTSTART:20250309T030000
TZOFFSETFROM:-0500
TZOFFSETTO:-0400
TZNAME:EDT
END:DAYLIGHT
END:VTIMEZONE
END:VCALENDAR