BEGIN:VCALENDAR
VERSION:2.0
PRODID:-//wp-events-plugin.com//7.2.3.1//EN
TZID:America/New_York
X-WR-TIMEZONE:America/New_York
BEGIN:VEVENT
UID:297@trinitypres.us
DTSTART;TZID=America/New_York:20251013T191500
DTEND;TZID=America/New_York:20251013T221500
DTSTAMP:20250507T171916Z
URL:https://trinitypres.us/resources/events/session-meeting-2025-10-13/
SUMMARY:Session Meeting
DESCRIPTION:Our session meets monthly to discuss the business of governing 
 the church and pray for members. Any member is welcome to attend the sessi
 on meeting -- we simply ask that they give us notice of their intention to
  attend and any topics they wish to discuss.
ATTACH;FMTTYPE=image/jpeg:https://trinitypres.us/wp-content/uploads/2025/0
 5/BCO-Resources.webp
CATEGORIES:Leadership
LOCATION:Church Office\, 1666 Village Green\, Crofton\, MD\, 21114\, United
  States
GEO:39.006098;-76.69789
X-APPLE-STRUCTURED-LOCATION;VALUE=URI;X-ADDRESS=1666 Village Green\, Crofto
 n\, MD\, 21114\, United States;X-APPLE-RADIUS=100;X-TITLE=Church Office:ge
 o:39.006098,-76.69789
END:VEVENT
BEGIN:VTIMEZONE
TZID:America/New_York
X-LIC-LOCATION:America/New_York
BEGIN:DAYLIGHT
DTSTART:20250309T030000
TZOFFSETFROM:-0500
TZOFFSETTO:-0400
TZNAME:EDT
END:DAYLIGHT
END:VTIMEZONE
END:VCALENDAR