BEGIN:VCALENDAR
VERSION:2.0
PRODID:-//wp-events-plugin.com//7.2.3.1//EN
TZID:America/New_York
X-WR-TIMEZONE:America/New_York
BEGIN:VEVENT
UID:163@trinitypres.us
DTSTART;TZID=America/New_York:20250503T180000
DTEND;TZID=America/New_York:20250503T200000
DTSTAMP:20250429T195210Z
URL:https://trinitypres.us/resources/events/pizza-night/
SUMMARY:Youth Girls' Fellowship Evening
DESCRIPTION:The youth girls will be having a MOVIE NIGHT at Deb Vroblesky's
  house. Food will be provided as we watch [MOVIE] and discuss. The event i
 s open for all 6th-12th grade girls -- parents are always welcome.
ATTACH;FMTTYPE=image/jpeg:https://trinitypres.us/wp-content/uploads/2025/0
 4/youth-fellowship-night.jpg
CATEGORIES:Youth Ministry
LOCATION:Deborah Vroblesky's\,  \, Annapolis\, MD\, United States
GEO:38.976436;-76.489642
X-APPLE-STRUCTURED-LOCATION;VALUE=URI;X-ADDRESS= \, Annapolis\, MD\, United
  States;X-APPLE-RADIUS=100;X-TITLE=Deborah Vroblesky's:geo:38.976436,-76.4
 89642
END:VEVENT
BEGIN:VTIMEZONE
TZID:America/New_York
X-LIC-LOCATION:America/New_York
BEGIN:DAYLIGHT
DTSTART:20250309T030000
TZOFFSETFROM:-0500
TZOFFSETTO:-0400
TZNAME:EDT
END:DAYLIGHT
END:VTIMEZONE
END:VCALENDAR