BEGIN:VCALENDAR
VERSION:2.0
PRODID:-//wp-events-plugin.com//7.2.3.1//EN
TZID:America/New_York
X-WR-TIMEZONE:America/New_York
BEGIN:VEVENT
UID:494@trinitypres.us
DTSTART;TZID=America/New_York:20251004T120000
DTEND;TZID=America/New_York:20251004T140000
DTSTAMP:20250924T180136Z
URL:https://trinitypres.us/resources/events/picnic-and-fellowship/
SUMMARY:Picnic and Fellowship
DESCRIPTION:Join us for our congregation-wide picnic and fellowship. Please
  bring your own lunch to Logan and Kait Putnam’s home.
ATTACH;FMTTYPE=image/jpeg:https://trinitypres.us/wp-content/uploads/2025/0
 9/pinic.jpg
CATEGORIES:General Fellowship
LOCATION:Logan and Kait Putnam's\,  \, Davidsonville\, MD\, United States
GEO:38.922764;-76.628555
X-APPLE-STRUCTURED-LOCATION;VALUE=URI;X-ADDRESS= \, Davidsonville\, MD\, Un
 ited States;X-APPLE-RADIUS=100;X-TITLE=Logan and Kait Putnam's:geo:38.9227
 64,-76.628555
END:VEVENT
BEGIN:VTIMEZONE
TZID:America/New_York
X-LIC-LOCATION:America/New_York
BEGIN:DAYLIGHT
DTSTART:20250309T030000
TZOFFSETFROM:-0500
TZOFFSETTO:-0400
TZNAME:EDT
END:DAYLIGHT
END:VTIMEZONE
END:VCALENDAR