BEGIN:VCALENDAR
VERSION:2.0
PRODID:-//wp-events-plugin.com//7.2.3.1//EN
TZID:America/New_York
X-WR-TIMEZONE:America/New_York
BEGIN:VEVENT
UID:561@trinitypres.us
DTSTART;TZID=America/New_York:20260117T170000
DTEND;TZID=America/New_York:20260117T193000
DTSTAMP:20260112T191502Z
URL:https://trinitypres.us/resources/events/ordination-and-installation-se
 rvice/
SUMMARY:Ordination and Installation Service
DESCRIPTION:Saturday evening\, January 17th\, at 5PM at Annapolis EP (710 R
 idgely Ave\, Annapolis.) Families are encouraged to bring their children. 
 Nursery will be available during the service. Immediately following the se
 rvice (around 6:15PM)\, Trinity is hosting a Welcoming Reception in EP's F
 ellowship Hall with food and drinks provided for all. Please mark your cal
 endars now and plan to join us for this Trinity Family celebration!
ATTACH;FMTTYPE=image/jpeg:https://trinitypres.us/wp-content/uploads/2026/0
 1/Screenshot-2026-01-12-at-2.12.17-PM.png
CATEGORIES:General Fellowship
LOCATION:Annapolis Evangelical Presbyterian Church\, 710 Ridgely Avenue\, A
 nnapolis\, MD\, 21401\, United States
GEO:39.000496;-76.517787
X-APPLE-STRUCTURED-LOCATION;VALUE=URI;X-ADDRESS=710 Ridgely Avenue\, Annapo
 lis\, MD\, 21401\, United States;X-APPLE-RADIUS=100;X-TITLE=Annapolis Evan
 gelical Presbyterian Church:geo:39.000496,-76.517787
END:VEVENT
BEGIN:VTIMEZONE
TZID:America/New_York
X-LIC-LOCATION:America/New_York
BEGIN:STANDARD
DTSTART:20251102T010000
TZOFFSETFROM:-0400
TZOFFSETTO:-0500
TZNAME:EST
END:STANDARD
END:VTIMEZONE
END:VCALENDAR