BEGIN:VCALENDAR
VERSION:2.0
PRODID:-//wp-events-plugin.com//7.2.3.1//EN
TZID:America/New_York
X-WR-TIMEZONE:America/New_York
BEGIN:VEVENT
UID:164@trinitypres.us
DTSTART;TZID=America/New_York:20250530T174500
DTEND;TZID=America/New_York:20250530T194500
DTSTAMP:20250428T165547Z
URL:https://trinitypres.us/resources/events/movie-night/
SUMMARY:Movie Night
DESCRIPTION:
CATEGORIES:Children's Ministry
END:VEVENT
BEGIN:VTIMEZONE
TZID:America/New_York
X-LIC-LOCATION:America/New_York
BEGIN:DAYLIGHT
DTSTART:20250309T030000
TZOFFSETFROM:-0500
TZOFFSETTO:-0400
TZNAME:EDT
END:DAYLIGHT
END:VTIMEZONE
END:VCALENDAR