BEGIN:VCALENDAR
VERSION:2.0
PRODID:-//wp-events-plugin.com//7.2.3.1//EN
TZID:America/New_York
X-WR-TIMEZONE:America/New_York
BEGIN:VEVENT
UID:219@trinitypres.us
DTSTART;TZID=America/New_York:20260506T060000
DTEND;TZID=America/New_York:20260506T070000
DTSTAMP:20251023T020140Z
URL:https://trinitypres.us/resources/events/mens-breakfast-2026-05-06/
SUMMARY:Men's Breakfast
DESCRIPTION:Join the men of Trinity for a time of prayer and fellowship -- 
 and a short devotional. Bring your Bible\, grab a bagel\, and enjoy some c
 offee/tea alongside the Word.
ATTACH;FMTTYPE=image/jpeg:https://trinitypres.us/wp-content/uploads/2025/0
 4/mensbreakfast.jpg
CATEGORIES:Men's Ministry
LOCATION:Nico's Bagels & Brunch\, 991 Waugh Chapel Way\, Gambrills\, MD\, 2
 1054\, United States
GEO:39.032786;-76.690597
X-APPLE-STRUCTURED-LOCATION;VALUE=URI;X-ADDRESS=991 Waugh Chapel Way\, Gamb
 rills\, MD\, 21054\, United States;X-APPLE-RADIUS=100;X-TITLE=Nico's Bagel
 s & Brunch:geo:39.032786,-76.690597
END:VEVENT
BEGIN:VTIMEZONE
TZID:America/New_York
X-LIC-LOCATION:America/New_York
BEGIN:DAYLIGHT
DTSTART:20260308T030000
TZOFFSETFROM:-0500
TZOFFSETTO:-0400
TZNAME:EDT
END:DAYLIGHT
END:VTIMEZONE
END:VCALENDAR