BEGIN:VCALENDAR
VERSION:2.0
PRODID:-//wp-events-plugin.com//7.2.3.1//EN
TZID:America/New_York
X-WR-TIMEZONE:America/New_York
BEGIN:VEVENT
UID:569@trinitypres.us
DTSTART;TZID=America/New_York:20260219T193000
DTEND;TZID=America/New_York:20260219T213000
DTSTAMP:20260225T164906Z
URL:https://trinitypres.us/resources/events/mens-book-study-2026-02-19/
SUMMARY:Men's Book Study
DESCRIPTION:Join us for a discussion on Herman Bavinck's The Certainty of 
 Faith.
ATTACH;FMTTYPE=image/jpeg:https://trinitypres.us/wp-content/uploads/2026/0
 2/certaintyoffaith-1-e1770994040158.webp
CATEGORIES:Men's Ministry
LOCATION:Ernest and Terry Norman's\,  \, Annapolis\, Maryland\, United Stat
 es
GEO:38.976436;-76.489642
X-APPLE-STRUCTURED-LOCATION;VALUE=URI;X-ADDRESS= \, Annapolis\, Maryland\, 
 United States;X-APPLE-RADIUS=100;X-TITLE=Ernest and Terry Norman's:geo:38.
 976436,-76.489642
END:VEVENT
BEGIN:VTIMEZONE
TZID:America/New_York
X-LIC-LOCATION:America/New_York
BEGIN:STANDARD
DTSTART:20251102T010000
TZOFFSETFROM:-0400
TZOFFSETTO:-0500
TZNAME:EST
END:STANDARD
END:VTIMEZONE
END:VCALENDAR