BEGIN:VCALENDAR
VERSION:2.0
PRODID:-//wp-events-plugin.com//7.2.3.1//EN
TZID:America/New_York
X-WR-TIMEZONE:America/New_York
BEGIN:VEVENT
UID:570@trinitypres.us
DTSTART;TZID=America/New_York:20260305T193000
DTEND;TZID=America/New_York:20260305T213000
DTSTAMP:20260225T165138Z
URL:https://trinitypres.us/resources/events/mens-book-study-2026-02-19-202
 6-03-05/
SUMMARY:Men's Book Study
DESCRIPTION:Join us for a discussion on Herman Bavinck's The Certainty of 
 Faith.
ATTACH;FMTTYPE=image/jpeg:https://trinitypres.us/wp-content/uploads/2026/0
 2/certaintyoffaith-1-e1770994040158.webp
CATEGORIES:Men's Ministry
LOCATION:Sean and Erika Sullivan's\,  \, Odenton\, Maryland\, 21113\, Unite
 d States
GEO:39.059571;-76.716336
X-APPLE-STRUCTURED-LOCATION;VALUE=URI;X-ADDRESS= \, Odenton\, Maryland\, 21
 113\, United States;X-APPLE-RADIUS=100;X-TITLE=Sean and Erika Sullivan's:g
 eo:39.059571,-76.716336
END:VEVENT
BEGIN:VTIMEZONE
TZID:America/New_York
X-LIC-LOCATION:America/New_York
BEGIN:STANDARD
DTSTART:20251102T010000
TZOFFSETFROM:-0400
TZOFFSETTO:-0500
TZNAME:EST
END:STANDARD
END:VTIMEZONE
END:VCALENDAR