BEGIN:VCALENDAR
VERSION:2.0
PRODID:-//wp-events-plugin.com//7.2.3.1//EN
TZID:America/New_York
X-WR-TIMEZONE:America/New_York
BEGIN:VEVENT
UID:574@trinitypres.us
DTSTART;TZID=America/New_York:20260430T193000
DTEND;TZID=America/New_York:20260430T213000
DTSTAMP:20260225T164833Z
URL:https://trinitypres.us/resources/events/mens-book-study-2026-02-19-202
 6-03-05-2026-03-19-2026-04-02-2026-04-16-2026-04-30/
SUMMARY:Men's Book Study
DESCRIPTION:Join us for a discussion on Herman Bavinck's The Certainty of 
 Faith.
ATTACH;FMTTYPE=image/jpeg:https://trinitypres.us/wp-content/uploads/2026/0
 2/certaintyoffaith-1-e1770994040158.webp
CATEGORIES:Men's Ministry
END:VEVENT
BEGIN:VTIMEZONE
TZID:America/New_York
X-LIC-LOCATION:America/New_York
BEGIN:DAYLIGHT
DTSTART:20260308T030000
TZOFFSETFROM:-0500
TZOFFSETTO:-0400
TZNAME:EDT
END:DAYLIGHT
END:VTIMEZONE
END:VCALENDAR