BEGIN:VCALENDAR
VERSION:2.0
PRODID:-//wp-events-plugin.com//7.2.3.1//EN
TZID:America/New_York
X-WR-TIMEZONE:America/New_York
BEGIN:VEVENT
UID:475@trinitypres.us
DTSTART;TZID=America/New_York:20250930T190000
DTEND;TZID=America/New_York:20250930T220000
DTSTAMP:20250924T180044Z
URL:https://trinitypres.us/resources/events/mc2/
SUMMARY:MC2
DESCRIPTION:This will be a more casual evening of fellowship with Holly Wen
 ger sharing a short devotional. Light refreshments will be served!
ATTACH;FMTTYPE=image/jpeg:https://trinitypres.us/wp-content/uploads/2025/0
 9/mc2.jpg
CATEGORIES:Women's Ministry
LOCATION:Matt and Jenna Robinson's\,  \, Millersville\, MD\, 21108\, United
  States
GEO:39.057478;-76.648582
X-APPLE-STRUCTURED-LOCATION;VALUE=URI;X-ADDRESS= \, Millersville\, MD\, 211
 08\, United States;X-APPLE-RADIUS=100;X-TITLE=Matt and Jenna Robinson's:ge
 o:39.057478,-76.648582
END:VEVENT
BEGIN:VTIMEZONE
TZID:America/New_York
X-LIC-LOCATION:America/New_York
BEGIN:DAYLIGHT
DTSTART:20250309T030000
TZOFFSETFROM:-0500
TZOFFSETTO:-0400
TZNAME:EDT
END:DAYLIGHT
END:VTIMEZONE
END:VCALENDAR