BEGIN:VCALENDAR
VERSION:2.0
PRODID:-//wp-events-plugin.com//7.2.3.1//EN
TZID:America/New_York
X-WR-TIMEZONE:America/New_York
BEGIN:VEVENT
UID:538@trinitypres.us
DTSTART;TZID=America/New_York:20251118T190000
DTEND;TZID=America/New_York:20251118T210000
DTSTAMP:20251102T162714Z
URL:https://trinitypres.us/resources/events/mc2-2/
SUMMARY:MC^2
DESCRIPTION:Join us for a night of women’s fellowship!
ATTACH;FMTTYPE=image/jpeg:https://trinitypres.us/wp-content/uploads/2025/0
 9/mc2.jpg
CATEGORIES:Women's Ministry
LOCATION:Matt and Jenna Robinson's\,  \, Millersville\, MD\, 21108\, United
  States
GEO:39.057478;-76.648582
X-APPLE-STRUCTURED-LOCATION;VALUE=URI;X-ADDRESS= \, Millersville\, MD\, 211
 08\, United States;X-APPLE-RADIUS=100;X-TITLE=Matt and Jenna Robinson's:ge
 o:39.057478,-76.648582
END:VEVENT
BEGIN:VTIMEZONE
TZID:America/New_York
X-LIC-LOCATION:America/New_York
BEGIN:STANDARD
DTSTART:20251102T010000
TZOFFSETFROM:-0400
TZOFFSETTO:-0500
TZNAME:EST
END:STANDARD
END:VTIMEZONE
END:VCALENDAR