BEGIN:VCALENDAR
VERSION:2.0
PRODID:-//wp-events-plugin.com//7.2.3.1//EN
TZID:America/New_York
X-WR-TIMEZONE:America/New_York
BEGIN:VEVENT
UID:547@trinitypres.us
DTSTART;TZID=America/New_York:20260110T090000
DTEND;TZID=America/New_York:20260110T213000
DTSTAMP:20251121T202107Z
URL:https://trinitypres.us/resources/events/lord-of-the-rings-movie-marath
 on/
SUMMARY:Lord of the Rings Movie Marathon
DESCRIPTION:\n\nPlease join us for an all day Lord of the Rings Movie Marat
 hon hosted by the Doolan's! Come for one movie or for all! The break down 
 for movie times and food is below:\nFellowship of the Ring: 9 AM - 12:45 P
 M\nTwo Towers: 1 PM - 5 PM\nReturn of the King: 5 PM - 9:30 PM\nBreakfasty
  time (9AM):\nApples\nEgg casserole with PO-TA-TOES\nCrispy bacon\nRings (
 donuts and bagels)\nJuice\n\nLunch (1 PM):\nEye of Sauron deviled eggs\nPl
 oughman’s lunch (charcuterie board)\nCherry tomatoes\nLembas bread (Brea
 d/crackers)\nDead marshes dip and chips (guacamole)\nOrc fingers (small sa
 usages)\n\nDinner (5PM):\nMeat’s back on the menu\, boys! (Drumsticks an
 d chicken nuggets)\nFarmer Maggot’s crops (Veggie platter)\nPrancing Pon
 y skewers (meatballs\, mushrooms\, bread cubes)\nPotato salad\n\nBilbo’s
  birthday cake around 7:30/8\n\nSnacks provided throughout:\nBalrog’s wh
 ip (twizzlers)\nGandalf’s staff (pretzel rods)\nSméagol’s fish (Swedi
 sh fish)\nPO-TA-TOE chips\nThe one ring (peach rings and circle pretzels)\
 nEnt draught (soda)\nIt comes in a pint! (Cider)\n\n\n\nLeftovers from mos
 t recent meal of the day
ATTACH;FMTTYPE=image/jpeg:https://trinitypres.us/wp-content/uploads/2025/1
 1/LOTR-e1763756460614.jpg
CATEGORIES:Youth Ministry
LOCATION:Kendrick and Esther Doolan’s\,  \, Millersville\, MD\, 21108\, U
 nited States
GEO:39.057478;-76.648582
X-APPLE-STRUCTURED-LOCATION;VALUE=URI;X-ADDRESS= \, Millersville\, MD\, 211
 08\, United States;X-APPLE-RADIUS=100;X-TITLE=Kendrick and Esther Doolan
 ’s:geo:39.057478,-76.648582
END:VEVENT
BEGIN:VTIMEZONE
TZID:America/New_York
X-LIC-LOCATION:America/New_York
BEGIN:STANDARD
DTSTART:20251102T010000
TZOFFSETFROM:-0400
TZOFFSETTO:-0500
TZNAME:EST
END:STANDARD
END:VTIMEZONE
END:VCALENDAR