BEGIN:VCALENDAR
VERSION:2.0
PRODID:-//wp-events-plugin.com//7.2.3.1//EN
TZID:America/New_York
X-WR-TIMEZONE:America/New_York
BEGIN:VEVENT
UID:410@trinitypres.us
DTSTART;TZID=America/New_York:20250808T190000
DTEND;TZID=America/New_York:20250808T210000
DTSTAMP:20250719T150814Z
URL:https://trinitypres.us/resources/events/ladies-ice-cream-night/
SUMMARY:Ladies Ice Cream Night
DESCRIPTION:End the summer with a "cool" night of icecream and fellowship! 
 Bring a SMALL size of your favorite ice cream to share.
ATTACH;FMTTYPE=image/jpeg:https://trinitypres.us/wp-content/uploads/2025/0
 7/happy-ice-day.jpg
CATEGORIES:Women's Ministry
END:VEVENT
BEGIN:VTIMEZONE
TZID:America/New_York
X-LIC-LOCATION:America/New_York
BEGIN:DAYLIGHT
DTSTART:20250309T030000
TZOFFSETFROM:-0500
TZOFFSETTO:-0400
TZNAME:EDT
END:DAYLIGHT
END:VTIMEZONE
END:VCALENDAR