BEGIN:VCALENDAR
VERSION:2.0
PRODID:-//wp-events-plugin.com//7.2.3.1//EN
TZID:America/New_York
X-WR-TIMEZONE:America/New_York
BEGIN:VEVENT
UID:562@trinitypres.us
DTSTART;TZID=America/New_York:20260213T190000
DTEND;TZID=America/New_York:20260213T220000
DTSTAMP:20260116T202904Z
URL:https://trinitypres.us/resources/events/ladies-fellowship-night/
SUMMARY:Ladies Fellowship Night
DESCRIPTION:Please join us for a GALENTINE'S Day ladies night!
ATTACH;FMTTYPE=image/jpeg:https://trinitypres.us/wp-content/uploads/2026/0
 1/galentines-day-e1768595338284.jpg
CATEGORIES:Women's Ministry
LOCATION:Rachel Mckeown\,   \, Arnold\, 21012\, United States
GEO:39.058905;-76.491009
X-APPLE-STRUCTURED-LOCATION;VALUE=URI;X-ADDRESS=  \, Arnold\, 21012\, Unite
 d States;X-APPLE-RADIUS=100;X-TITLE=Rachel Mckeown:geo:39.058905,-76.49100
 9
END:VEVENT
BEGIN:VTIMEZONE
TZID:America/New_York
X-LIC-LOCATION:America/New_York
BEGIN:STANDARD
DTSTART:20251102T010000
TZOFFSETFROM:-0400
TZOFFSETTO:-0500
TZNAME:EST
END:STANDARD
END:VTIMEZONE
END:VCALENDAR