BEGIN:VCALENDAR
VERSION:2.0
PRODID:-//wp-events-plugin.com//7.2.3.1//EN
TZID:America/New_York
X-WR-TIMEZONE:America/New_York
BEGIN:VEVENT
UID:564@trinitypres.us
DTSTART;TZID=America/New_York:20260626T190000
DTEND;TZID=America/New_York:20260626T220000
DTSTAMP:20260116T204955Z
URL:https://trinitypres.us/resources/events/ladies-fellowship-night-3/
SUMMARY:Ladies' Fellowship Night
DESCRIPTION:Please join us for our pre 4th of July Ladies Night!\n\n&nbsp\;
 \n\nThis will be our last Ladies Night for the summer! We will kick it off
  again in the school year.
ATTACH;FMTTYPE=image/jpeg:https://trinitypres.us/wp-content/uploads/2026/0
 1/4thfellowship.jpg
CATEGORIES:Women's Ministry
LOCATION:Kristine Vander Wall\,    \, Crofton\, MD\, 21114\, United States
GEO:39.001777;-76.687467
X-APPLE-STRUCTURED-LOCATION;VALUE=URI;X-ADDRESS=   \, Crofton\, MD\, 21114\
 , United States;X-APPLE-RADIUS=100;X-TITLE=Kristine Vander Wall:geo:39.001
 777,-76.687467
END:VEVENT
BEGIN:VTIMEZONE
TZID:America/New_York
X-LIC-LOCATION:America/New_York
BEGIN:DAYLIGHT
DTSTART:20260308T030000
TZOFFSETFROM:-0500
TZOFFSETTO:-0400
TZNAME:EDT
END:DAYLIGHT
END:VTIMEZONE
END:VCALENDAR