BEGIN:VCALENDAR
VERSION:2.0
PRODID:-//wp-events-plugin.com//7.2.3.1//EN
TZID:America/New_York
X-WR-TIMEZONE:America/New_York
BEGIN:VEVENT
UID:456@trinitypres.us
DTSTART;TZID=America/New_York:20251205T190000
DTEND;TZID=America/New_York:20251205T220000
DTSTAMP:20251126T184317Z
URL:https://trinitypres.us/resources/events/ladies-cookie-exchange/
SUMMARY:Ladies Cookie Exchange
DESCRIPTION:Ladies! Join us for our yearly cookie exchange. Please bring at
  least 5 dozen of one type of your favorite Christmas cookie and go home w
 ith a selection of assorted cookies.  Perfect for a holiday cookie platte
 r\, sharing with your neighbors or binging while you watch your favorite C
 hristmas movie.\n\nFeel free to bring a snack or drink to share.\n\nWe wil
 l gather our cookies and then meet for a time of fellowship\, singing caro
 ls and an Advent devotion
ATTACH;FMTTYPE=image/jpeg:https://trinitypres.us/wp-content/uploads/2025/0
 8/cookie-exhance-website.jpg
CATEGORIES:Women's Ministry
LOCATION:Stephanie Garvey\,     \, Gambrills\, MD\, United States
GEO:39.092489;-76.647047
X-APPLE-STRUCTURED-LOCATION;VALUE=URI;X-ADDRESS=    \, Gambrills\, MD\, Uni
 ted States;X-APPLE-RADIUS=100;X-TITLE=Stephanie Garvey:geo:39.092489,-76.6
 47047
END:VEVENT
BEGIN:VTIMEZONE
TZID:America/New_York
X-LIC-LOCATION:America/New_York
BEGIN:STANDARD
DTSTART:20251102T010000
TZOFFSETFROM:-0400
TZOFFSETTO:-0500
TZNAME:EST
END:STANDARD
END:VTIMEZONE
END:VCALENDAR