BEGIN:VCALENDAR
VERSION:2.0
PRODID:-//wp-events-plugin.com//7.2.3.1//EN
TZID:America/New_York
X-WR-TIMEZONE:America/New_York
BEGIN:VEVENT
UID:493@trinitypres.us
DTSTART;TZID=America/New_York:20251003T190000
DTEND;TZID=America/New_York:20251003T210000
DTSTAMP:20250927T234951Z
URL:https://trinitypres.us/resources/events/ice-cream-social/
SUMMARY:Ice Cream Social
DESCRIPTION:Join us for our congregation-wide ice cream social! Food and dr
 inks will be provided.
ATTACH;FMTTYPE=image/jpeg:https://trinitypres.us/wp-content/uploads/2025/0
 9/happy-ice-day-2.jpg
CATEGORIES:General Fellowship
LOCATION:Allison and Brian Clapp's\,  \, Annapolis \, MD\, 21401\, United S
 tates
GEO:38.979434;-76.491971
X-APPLE-STRUCTURED-LOCATION;VALUE=URI;X-ADDRESS= \, Annapolis \, MD\, 21401
 \, United States;X-APPLE-RADIUS=100;X-TITLE=Allison and Brian Clapp's:geo:
 38.979434,-76.491971
END:VEVENT
BEGIN:VTIMEZONE
TZID:America/New_York
X-LIC-LOCATION:America/New_York
BEGIN:DAYLIGHT
DTSTART:20250309T030000
TZOFFSETFROM:-0500
TZOFFSETTO:-0400
TZNAME:EDT
END:DAYLIGHT
END:VTIMEZONE
END:VCALENDAR