BEGIN:VCALENDAR
VERSION:2.0
PRODID:-//wp-events-plugin.com//7.2.3.1//EN
TZID:America/New_York
X-WR-TIMEZONE:America/New_York
BEGIN:VEVENT
UID:496@trinitypres.us
DTSTART;TZID=America/New_York:20251017T170000
DTEND;TZID=America/New_York:20251017T203000
DTSTAMP:20251013T134403Z
URL:https://trinitypres.us/resources/events/fall-festival/
SUMMARY:Fall Festival
DESCRIPTION:Join us for games\, food\, and fun...wear your costumes or come
  as you are!\n\nThe fall festival will also feature the first annual Trini
 ty chili cook-off. The winner will be determined by a "people's choice" vo
 te and will be presented with a prize!
ATTACH;FMTTYPE=image/jpeg:https://trinitypres.us/wp-content/uploads/2025/0
 9/fall-festival-web.jpg
CATEGORIES:Children's Ministry
LOCATION:Jacob and Katie McKinley's\,  \, Millersville\, Maryland\, United 
 States
GEO:39.057478;-76.648582
X-APPLE-STRUCTURED-LOCATION;VALUE=URI;X-ADDRESS= \, Millersville\, Maryland
 \, United States;X-APPLE-RADIUS=100;X-TITLE=Jacob and Katie McKinley's:geo
 :39.057478,-76.648582
END:VEVENT
BEGIN:VTIMEZONE
TZID:America/New_York
X-LIC-LOCATION:America/New_York
BEGIN:DAYLIGHT
DTSTART:20250309T030000
TZOFFSETFROM:-0500
TZOFFSETTO:-0400
TZNAME:EDT
END:DAYLIGHT
END:VTIMEZONE
END:VCALENDAR