BEGIN:VCALENDAR
VERSION:2.0
PRODID:-//wp-events-plugin.com//7.2.3.1//EN
TZID:America/New_York
X-WR-TIMEZONE:America/New_York
BEGIN:VEVENT
UID:455@trinitypres.us
DTSTART;TZID=America/New_York:20250831T160000
DTEND;TZID=America/New_York:20250831T193000
DTSTAMP:20250822T152101Z
URL:https://trinitypres.us/resources/events/evening-fellowship/
SUMMARY:Evening Fellowship
DESCRIPTION:Our next Evening Fellowship will be a potluck at David and Hann
 ah Putnam's home  on Sunday\, August 31st\, at 4PM. The pool and grill wi
 ll be open so bring a towel and something to grill if you'd like. Please b
 ring folding chairs if able!
ATTACH;FMTTYPE=image/jpeg:https://trinitypres.us/wp-content/uploads/2025/0
 8/Evening-Fellowship-webstite.jpg
CATEGORIES:General Fellowship
LOCATION:Hannah and David Putnam's\,  \, Pasadena \, MD\, 21122\, United St
 ates
GEO:39.12914;-76.479444
X-APPLE-STRUCTURED-LOCATION;VALUE=URI;X-ADDRESS= \, Pasadena \, MD\, 21122\
 , United States;X-APPLE-RADIUS=100;X-TITLE=Hannah and David Putnam's:geo:3
 9.12914,-76.479444
END:VEVENT
BEGIN:VTIMEZONE
TZID:America/New_York
X-LIC-LOCATION:America/New_York
BEGIN:DAYLIGHT
DTSTART:20250309T030000
TZOFFSETFROM:-0500
TZOFFSETTO:-0400
TZNAME:EDT
END:DAYLIGHT
END:VTIMEZONE
END:VCALENDAR