BEGIN:VCALENDAR
VERSION:2.0
PRODID:-//wp-events-plugin.com//7.2.3.1//EN
TZID:America/New_York
X-WR-TIMEZONE:America/New_York
BEGIN:VEVENT
UID:404@trinitypres.us
DTSTART;TZID=America/New_York:20270510T200000
DTEND;TZID=America/New_York:20270510T220000
DTSTAMP:20250613T171505Z
URL:https://trinitypres.us/resources/events/diaconal-meeting-2027-05-10/
SUMMARY:Diaconal Meeting
DESCRIPTION:The deacons meet virtually once a month to handle their busines
 s and ensure members' needs are met. Ask your deacon for more information 
 or if you have a concern you'd like them to address.
ATTACH;FMTTYPE=image/jpeg:https://trinitypres.us/wp-content/uploads/2025/0
 6/Deacons_ServantsOfTheChurch.jpg
CATEGORIES:Leadership
END:VEVENT
BEGIN:VTIMEZONE
TZID:America/New_York
X-LIC-LOCATION:America/New_York
BEGIN:DAYLIGHT
DTSTART:20270314T030000
TZOFFSETFROM:-0500
TZOFFSETTO:-0400
TZNAME:EDT
END:DAYLIGHT
END:VTIMEZONE
END:VCALENDAR