BEGIN:VCALENDAR
VERSION:2.0
PRODID:-//wp-events-plugin.com//7.2.3.1//EN
TZID:America/New_York
X-WR-TIMEZONE:America/New_York
BEGIN:VEVENT
UID:405@trinitypres.us
DTSTART;TZID=America/New_York:20250615T090000
DTEND;TZID=America/New_York:20250615T100000
DTSTAMP:20250615T033531Z
URL:https://trinitypres.us/resources/events/congregational-meeting/
SUMMARY:Congregational Meeting
DESCRIPTION:Members are encouraged to come to the 9 AM congregational meeti
 ng in the Crofton High School auditorium.
ATTACH;FMTTYPE=image/jpeg:https://trinitypres.us/wp-content/uploads/2025/0
 6/Congregational-Meeting-new-e1749958525146.jpg
CATEGORIES:Sunday Morning
LOCATION:Crofton High School\, 2291 Davidsonville Road\, Gambrills\, MD\, 2
 1054\, United States
GEO:39.000557;-76.669517
X-APPLE-STRUCTURED-LOCATION;VALUE=URI;X-ADDRESS=2291 Davidsonville Road\, G
 ambrills\, MD\, 21054\, United States;X-APPLE-RADIUS=100;X-TITLE=Crofton H
 igh School:geo:39.000557,-76.669517
END:VEVENT
BEGIN:VTIMEZONE
TZID:America/New_York
X-LIC-LOCATION:America/New_York
BEGIN:DAYLIGHT
DTSTART:20250309T030000
TZOFFSETFROM:-0500
TZOFFSETTO:-0400
TZNAME:EDT
END:DAYLIGHT
END:VTIMEZONE
END:VCALENDAR