BEGIN:VCALENDAR
VERSION:2.0
PRODID:-//wp-events-plugin.com//7.2.3.1//EN
TZID:America/New_York
X-WR-TIMEZONE:America/New_York
BEGIN:VEVENT
UID:541@trinitypres.us
DTSTART;TZID=America/New_York:20251217T173000
DTEND;TZID=America/New_York:20251217T193000
DTSTAMP:20251119T210051Z
URL:https://trinitypres.us/resources/events/christmas-caroling/
SUMMARY:Christmas Caroling
DESCRIPTION:Please join us as we singing hymns of the season in the Crotfon
  area!\n\nCome to the Waldo's at 5:30pm for hot chocolate and fellowship p
 rior to walking around at 6pm!
ATTACH;FMTTYPE=image/jpeg:https://trinitypres.us/wp-content/uploads/2025/1
 1/caroling--e1763585998696.jpg
CATEGORIES:General Fellowship
LOCATION:Benjamin and Rae Waldo's\,  \, Crofton\, MD\, United States
GEO:39.001777;-76.687467
X-APPLE-STRUCTURED-LOCATION;VALUE=URI;X-ADDRESS= \, Crofton\, MD\, United S
 tates;X-APPLE-RADIUS=100;X-TITLE=Benjamin and Rae Waldo's:geo:39.001777,-7
 6.687467
END:VEVENT
BEGIN:VTIMEZONE
TZID:America/New_York
X-LIC-LOCATION:America/New_York
BEGIN:STANDARD
DTSTART:20251102T010000
TZOFFSETFROM:-0400
TZOFFSETTO:-0500
TZNAME:EST
END:STANDARD
END:VTIMEZONE
END:VCALENDAR